BEGIN:VCALENDAR
VERSION:2.0
PRODID:-//Families of Faith Christian Academy - ECPv6.15.20//NONSGML v1.0//EN
CALSCALE:GREGORIAN
METHOD:PUBLISH
X-ORIGINAL-URL:https://fofca.com
X-WR-CALDESC:Events for Families of Faith Christian Academy
REFRESH-INTERVAL;VALUE=DURATION:PT1H
X-Robots-Tag:noindex
X-PUBLISHED-TTL:PT1H
BEGIN:VTIMEZONE
TZID:America/Chicago
BEGIN:DAYLIGHT
TZOFFSETFROM:-0600
TZOFFSETTO:-0500
TZNAME:CDT
DTSTART:20220313T080000
END:DAYLIGHT
BEGIN:STANDARD
TZOFFSETFROM:-0500
TZOFFSETTO:-0600
TZNAME:CST
DTSTART:20221106T070000
END:STANDARD
BEGIN:DAYLIGHT
TZOFFSETFROM:-0600
TZOFFSETTO:-0500
TZNAME:CDT
DTSTART:20230312T080000
END:DAYLIGHT
BEGIN:STANDARD
TZOFFSETFROM:-0500
TZOFFSETTO:-0600
TZNAME:CST
DTSTART:20231105T070000
END:STANDARD
BEGIN:DAYLIGHT
TZOFFSETFROM:-0600
TZOFFSETTO:-0500
TZNAME:CDT
DTSTART:20240310T080000
END:DAYLIGHT
BEGIN:STANDARD
TZOFFSETFROM:-0500
TZOFFSETTO:-0600
TZNAME:CST
DTSTART:20241103T070000
END:STANDARD
END:VTIMEZONE
BEGIN:VEVENT
DTSTART;VALUE=DATE:20230501
DTEND;VALUE=DATE:20230506
DTSTAMP:20260421T051357
CREATED:20220411T023720Z
LAST-MODIFIED:20220411T023720Z
UID:13387-1682899200-1683331199@fofca.com
SUMMARY:Teacher Appreciation Week🍎
DESCRIPTION:
URL:https://fofca.com/event/teacher-appreciation-week%f0%9f%8d%8e/
END:VEVENT
BEGIN:VEVENT
DTSTART;TZID=America/Chicago:20230502T153000
DTEND;TZID=America/Chicago:20230502T173000
DTSTAMP:20260421T051357
CREATED:20230327T163900Z
LAST-MODIFIED:20230327T163900Z
UID:15213-1683041400-1683048600@fofca.com
SUMMARY:Basketball Camp🏀
DESCRIPTION:Bring your own ball.
URL:https://fofca.com/event/basketball-camp%f0%9f%8f%80-16/
LOCATION:Families of Faith Christian Academy\, 24466 W Eames Street\, Channahon\, 60410
END:VEVENT
BEGIN:VEVENT
DTSTART;TZID=America/Chicago:20230502T163000
DTEND;TZID=America/Chicago:20230502T180000
DTSTAMP:20260421T051357
CREATED:20230425T150716Z
LAST-MODIFIED:20230425T150716Z
UID:15294-1683045000-1683050400@fofca.com
SUMMARY:Athletic Senior Night🏐
DESCRIPTION:Boys vs. Girls volleyball game.
URL:https://fofca.com/event/athletic-senior-night%f0%9f%8f%90/
END:VEVENT
END:VCALENDAR