BEGIN:VCALENDAR
VERSION:2.0
PRODID:-//Families of Faith Christian Academy - ECPv6.15.20//NONSGML v1.0//EN
CALSCALE:GREGORIAN
METHOD:PUBLISH
X-WR-CALNAME:Families of Faith Christian Academy
X-ORIGINAL-URL:https://fofca.com
X-WR-CALDESC:Events for Families of Faith Christian Academy
REFRESH-INTERVAL;VALUE=DURATION:PT1H
X-Robots-Tag:noindex
X-PUBLISHED-TTL:PT1H
BEGIN:VTIMEZONE
TZID:America/Chicago
BEGIN:DAYLIGHT
TZOFFSETFROM:-0600
TZOFFSETTO:-0500
TZNAME:CDT
DTSTART:20220313T080000
END:DAYLIGHT
BEGIN:STANDARD
TZOFFSETFROM:-0500
TZOFFSETTO:-0600
TZNAME:CST
DTSTART:20221106T070000
END:STANDARD
BEGIN:DAYLIGHT
TZOFFSETFROM:-0600
TZOFFSETTO:-0500
TZNAME:CDT
DTSTART:20230312T080000
END:DAYLIGHT
BEGIN:STANDARD
TZOFFSETFROM:-0500
TZOFFSETTO:-0600
TZNAME:CST
DTSTART:20231105T070000
END:STANDARD
BEGIN:DAYLIGHT
TZOFFSETFROM:-0600
TZOFFSETTO:-0500
TZNAME:CDT
DTSTART:20240310T080000
END:DAYLIGHT
BEGIN:STANDARD
TZOFFSETFROM:-0500
TZOFFSETTO:-0600
TZNAME:CST
DTSTART:20241103T070000
END:STANDARD
END:VTIMEZONE
BEGIN:VEVENT
DTSTART;TZID=America/Chicago:20230512T120000
DTEND;TZID=America/Chicago:20230512T123000
DTSTAMP:20260421T060538
CREATED:20230501T191330Z
LAST-MODIFIED:20230501T191330Z
UID:15340-1683892800-1683894600@fofca.com
SUMMARY:Pizza Fun Lunch🍕
DESCRIPTION:
URL:https://fofca.com/event/pizza-fun-lunch%f0%9f%8d%95/
END:VEVENT
BEGIN:VEVENT
DTSTART;TZID=America/Chicago:20230512T183000
DTEND;TZID=America/Chicago:20230512T200000
DTSTAMP:20260421T060538
CREATED:20220411T023912Z
LAST-MODIFIED:20230427T142619Z
UID:13391-1683916200-1683921600@fofca.com
SUMMARY:Pre-K4 Graduation🎓
DESCRIPTION:
URL:https://fofca.com/event/pre-school-graduation%f0%9f%8e%93/
END:VEVENT
END:VCALENDAR