BEGIN:VCALENDAR
VERSION:2.0
PRODID:-//Families of Faith Christian Academy - ECPv6.15.20//NONSGML v1.0//EN
CALSCALE:GREGORIAN
METHOD:PUBLISH
X-WR-CALNAME:Families of Faith Christian Academy
X-ORIGINAL-URL:https://fofca.com
X-WR-CALDESC:Events for Families of Faith Christian Academy
REFRESH-INTERVAL;VALUE=DURATION:PT1H
X-Robots-Tag:noindex
X-PUBLISHED-TTL:PT1H
BEGIN:VTIMEZONE
TZID:America/Chicago
BEGIN:DAYLIGHT
TZOFFSETFROM:-0600
TZOFFSETTO:-0500
TZNAME:CDT
DTSTART:20220313T080000
END:DAYLIGHT
BEGIN:STANDARD
TZOFFSETFROM:-0500
TZOFFSETTO:-0600
TZNAME:CST
DTSTART:20221106T070000
END:STANDARD
BEGIN:DAYLIGHT
TZOFFSETFROM:-0600
TZOFFSETTO:-0500
TZNAME:CDT
DTSTART:20230312T080000
END:DAYLIGHT
BEGIN:STANDARD
TZOFFSETFROM:-0500
TZOFFSETTO:-0600
TZNAME:CST
DTSTART:20231105T070000
END:STANDARD
BEGIN:DAYLIGHT
TZOFFSETFROM:-0600
TZOFFSETTO:-0500
TZNAME:CDT
DTSTART:20240310T080000
END:DAYLIGHT
BEGIN:STANDARD
TZOFFSETFROM:-0500
TZOFFSETTO:-0600
TZNAME:CST
DTSTART:20241103T070000
END:STANDARD
END:VTIMEZONE
BEGIN:VEVENT
DTSTART;TZID=America/Chicago:20230516T153000
DTEND;TZID=America/Chicago:20230516T173000
DTSTAMP:20260421T051312
CREATED:20230327T163437Z
LAST-MODIFIED:20230327T163437Z
UID:15211-1684251000-1684258200@fofca.com
SUMMARY:Basketball Camp🏀
DESCRIPTION:Bring your own ball.
URL:https://fofca.com/event/basketball-camp%f0%9f%8f%80-15/
LOCATION:Families of Faith Christian Academy\, 24466 W Eames Street\, Channahon\, 60410
END:VEVENT
BEGIN:VEVENT
DTSTART;TZID=America/Chicago:20230516T183000
DTEND;TZID=America/Chicago:20230516T200000
DTSTAMP:20260421T051312
CREATED:20220411T024012Z
LAST-MODIFIED:20230320T232816Z
UID:13393-1684261800-1684267200@fofca.com
SUMMARY:Kindergarten Graduation🎓
DESCRIPTION:
URL:https://fofca.com/event/kindergarten-graduation%f0%9f%8e%93/
END:VEVENT
END:VCALENDAR