BEGIN:VCALENDAR
VERSION:2.0
PRODID:-//Families of Faith Christian Academy - ECPv6.15.20//NONSGML v1.0//EN
CALSCALE:GREGORIAN
METHOD:PUBLISH
X-ORIGINAL-URL:https://fofca.com
X-WR-CALDESC:Events for Families of Faith Christian Academy
REFRESH-INTERVAL;VALUE=DURATION:PT1H
X-Robots-Tag:noindex
X-PUBLISHED-TTL:PT1H
BEGIN:VTIMEZONE
TZID:America/Chicago
BEGIN:DAYLIGHT
TZOFFSETFROM:-0600
TZOFFSETTO:-0500
TZNAME:CDT
DTSTART:20220313T080000
END:DAYLIGHT
BEGIN:STANDARD
TZOFFSETFROM:-0500
TZOFFSETTO:-0600
TZNAME:CST
DTSTART:20221106T070000
END:STANDARD
BEGIN:DAYLIGHT
TZOFFSETFROM:-0600
TZOFFSETTO:-0500
TZNAME:CDT
DTSTART:20230312T080000
END:DAYLIGHT
BEGIN:STANDARD
TZOFFSETFROM:-0500
TZOFFSETTO:-0600
TZNAME:CST
DTSTART:20231105T070000
END:STANDARD
BEGIN:DAYLIGHT
TZOFFSETFROM:-0600
TZOFFSETTO:-0500
TZNAME:CDT
DTSTART:20240310T080000
END:DAYLIGHT
BEGIN:STANDARD
TZOFFSETFROM:-0500
TZOFFSETTO:-0600
TZNAME:CST
DTSTART:20241103T070000
END:STANDARD
END:VTIMEZONE
BEGIN:VEVENT
DTSTART;TZID=America/Chicago:20230717T080000
DTEND;TZID=America/Chicago:20230721T113000
DTSTAMP:20260421T051557
CREATED:20230614T200612Z
LAST-MODIFIED:20230614T200612Z
UID:15440-1689580800-1689939000@fofca.com
SUMMARY:Summer School (Session II)
DESCRIPTION:
URL:https://fofca.com/event/summer-school-session-ii/
END:VEVENT
BEGIN:VEVENT
DTSTART;TZID=America/Chicago:20230717T083000
DTEND;TZID=America/Chicago:20230721T151500
DTSTAMP:20260421T051557
CREATED:20230307T194119Z
LAST-MODIFIED:20230307T194119Z
UID:15055-1689582600-1689952500@fofca.com
SUMMARY:Camp Eagle: Lego Lab🥼
DESCRIPTION:
URL:https://fofca.com/event/camp-eagle-lego-lab%f0%9f%a5%bc/
END:VEVENT
END:VCALENDAR