BEGIN:VCALENDAR
VERSION:2.0
PRODID:-//Families of Faith Christian Academy - ECPv6.15.20//NONSGML v1.0//EN
CALSCALE:GREGORIAN
METHOD:PUBLISH
X-ORIGINAL-URL:https://fofca.com
X-WR-CALDESC:Events for Families of Faith Christian Academy
REFRESH-INTERVAL;VALUE=DURATION:PT1H
X-Robots-Tag:noindex
X-PUBLISHED-TTL:PT1H
BEGIN:VTIMEZONE
TZID:America/Chicago
BEGIN:DAYLIGHT
TZOFFSETFROM:-0600
TZOFFSETTO:-0500
TZNAME:CDT
DTSTART:20220313T080000
END:DAYLIGHT
BEGIN:STANDARD
TZOFFSETFROM:-0500
TZOFFSETTO:-0600
TZNAME:CST
DTSTART:20221106T070000
END:STANDARD
BEGIN:DAYLIGHT
TZOFFSETFROM:-0600
TZOFFSETTO:-0500
TZNAME:CDT
DTSTART:20230312T080000
END:DAYLIGHT
BEGIN:STANDARD
TZOFFSETFROM:-0500
TZOFFSETTO:-0600
TZNAME:CST
DTSTART:20231105T070000
END:STANDARD
BEGIN:DAYLIGHT
TZOFFSETFROM:-0600
TZOFFSETTO:-0500
TZNAME:CDT
DTSTART:20240310T080000
END:DAYLIGHT
BEGIN:STANDARD
TZOFFSETFROM:-0500
TZOFFSETTO:-0600
TZNAME:CST
DTSTART:20241103T070000
END:STANDARD
END:VTIMEZONE
BEGIN:VEVENT
DTSTART;TZID=America/Chicago:20230606T083000
DTEND;TZID=America/Chicago:20230609T151500
DTSTAMP:20260421T033232
CREATED:20230307T191731Z
LAST-MODIFIED:20230307T193251Z
UID:15032-1686040200-1686323700@fofca.com
SUMMARY:Camp Eagle: Gone Camping Week🏕️
DESCRIPTION:
URL:https://fofca.com/event/camp-eagle-begins/
END:VEVENT
BEGIN:VEVENT
DTSTART;TZID=America/Chicago:20230612T080000
DTEND;TZID=America/Chicago:20230616T113000
DTSTAMP:20260421T033232
CREATED:20230614T200109Z
LAST-MODIFIED:20230614T200109Z
UID:15432-1686556800-1686915000@fofca.com
SUMMARY:Summer School (Session I)
DESCRIPTION:
URL:https://fofca.com/event/summer-school-session-i/
END:VEVENT
BEGIN:VEVENT
DTSTART;TZID=America/Chicago:20230612T083000
DTEND;TZID=America/Chicago:20230616T151500
DTSTAMP:20260421T033232
CREATED:20230307T193402Z
LAST-MODIFIED:20230307T193402Z
UID:15045-1686558600-1686928500@fofca.com
SUMMARY:Camp Eagle: Pirate's Life for Me🏴‍☠️
DESCRIPTION:
URL:https://fofca.com/event/camp-eagle-pirates-life-for-me%f0%9f%8f%b4%e2%98%a0%ef%b8%8f/
END:VEVENT
BEGIN:VEVENT
DTSTART;VALUE=DATE:20230614
DTEND;VALUE=DATE:20230615
DTSTAMP:20260421T033232
CREATED:20230616T151021Z
LAST-MODIFIED:20230616T151021Z
UID:15589-1686700800-1686787199@fofca.com
SUMMARY:Flag Day
DESCRIPTION:
URL:https://fofca.com/event/flag-day/
END:VEVENT
BEGIN:VEVENT
DTSTART;VALUE=DATE:20230618
DTEND;VALUE=DATE:20230619
DTSTAMP:20260421T033232
CREATED:20230616T150952Z
LAST-MODIFIED:20230616T150952Z
UID:15587-1687046400-1687132799@fofca.com
SUMMARY:Father's Day👔
DESCRIPTION:
URL:https://fofca.com/event/fathers-day%f0%9f%91%94/
END:VEVENT
BEGIN:VEVENT
DTSTART;TZID=America/Chicago:20230619T080000
DTEND;TZID=America/Chicago:20230623T113000
DTSTAMP:20260421T033232
CREATED:20230614T200256Z
LAST-MODIFIED:20230614T200256Z
UID:15434-1687161600-1687519800@fofca.com
SUMMARY:Summer School (Session I)
DESCRIPTION:
URL:https://fofca.com/event/summer-school-session-i-2/
END:VEVENT
BEGIN:VEVENT
DTSTART;TZID=America/Chicago:20230619T083000
DTEND;TZID=America/Chicago:20230623T151500
DTSTAMP:20260421T033232
CREATED:20230307T193528Z
LAST-MODIFIED:20230307T193528Z
UID:15047-1687163400-1687533300@fofca.com
SUMMARY:Camp Eagle: Around the 🌎 in 5 Days
DESCRIPTION:
URL:https://fofca.com/event/camp-eagle-around-the-%f0%9f%8c%8e-in-5-days/
END:VEVENT
BEGIN:VEVENT
DTSTART;TZID=America/Chicago:20230625T180000
DTEND;TZID=America/Chicago:20230629T203000
DTSTAMP:20260421T033232
CREATED:20230429T151615Z
LAST-MODIFIED:20230429T151615Z
UID:15337-1687716000-1688070600@fofca.com
SUMMARY:Twists & Turns VBS🌪️↪️↩️
DESCRIPTION:Register for VBS.
URL:https://fofca.com/event/twists-turns-vbs%f0%9f%8c%aa%ef%b8%8f%e2%86%aa%ef%b8%8f%e2%86%a9%ef%b8%8f/
END:VEVENT
BEGIN:VEVENT
DTSTART;TZID=America/Chicago:20230626T080000
DTEND;TZID=America/Chicago:20230630T113000
DTSTAMP:20260421T033232
CREATED:20230614T200354Z
LAST-MODIFIED:20230614T200354Z
UID:15436-1687766400-1688124600@fofca.com
SUMMARY:Summer School (Session I)
DESCRIPTION:
URL:https://fofca.com/event/summer-school-session-i-3/
END:VEVENT
BEGIN:VEVENT
DTSTART;TZID=America/Chicago:20230626T083000
DTEND;TZID=America/Chicago:20230630T151500
DTSTAMP:20260421T033232
CREATED:20230307T193717Z
LAST-MODIFIED:20230307T193717Z
UID:15049-1687768200-1688138100@fofca.com
SUMMARY:Camp Eagle: Twists & Turns ↪️↩️
DESCRIPTION:
URL:https://fofca.com/event/camp-eagle-twists-turns-%e2%86%aa%ef%b8%8f%e2%86%a9%ef%b8%8f/
END:VEVENT
END:VCALENDAR